BEGIN:VCALENDAR
VERSION:2.0
PRODID:-//Advantage! Barrow Raiders - ECPv5.16.2.1//NONSGML v1.0//EN
CALSCALE:GREGORIAN
METHOD:PUBLISH
X-ORIGINAL-URL:https://advantagebarrow.com
X-WR-CALDESC:Events for Advantage! Barrow Raiders
REFRESH-INTERVAL;VALUE=DURATION:PT1H
X-Robots-Tag:noindex
X-PUBLISHED-TTL:PT1H
BEGIN:VTIMEZONE
TZID:UTC
BEGIN:STANDARD
TZOFFSETFROM:+0000
TZOFFSETTO:+0000
TZNAME:UTC
DTSTART:20260101T000000
END:STANDARD
END:VTIMEZONE
BEGIN:VEVENT
DTSTART;TZID=UTC:20260717T093000
DTEND;TZID=UTC:20260717T223000
DTSTAMP:20260420T101038
CREATED:20220712T124059Z
LAST-MODIFIED:20220712T124059Z
UID:10968-1784280600-1784327400@advantagebarrow.com
SUMMARY:Rambling Raiders
DESCRIPTION:Well Being walk\, lead by our trained walk leaders\, supported by The Ramblers and Active Cumbria. To find out where our walks are taking place\, join our Private Facebook group ‘Advantage! Rambling Raiders’ or click the link below. 						\n				\n				\n				\n					\n			\n						\n						Find out more about Rambling Raiders
URL:https://advantagebarrow.com/event/rambling-raiders/2026-07-17/
LOCATION:Various locations
CATEGORIES:Rambling Raiders
ATTACH;FMTTYPE=image/jpeg:https://advantagebarrow.com/wp-content/uploads/2022/06/PHOTO-2022-06-29-07-59-22-2.jpg
ORGANIZER;CN="Advantage%21%20Barrow":MAILTO:advantage@barrowrlfc.com
END:VEVENT
BEGIN:VEVENT
DTSTART;TZID=UTC:20260724T093000
DTEND;TZID=UTC:20260724T223000
DTSTAMP:20260420T101038
CREATED:20220712T124059Z
LAST-MODIFIED:20220712T124059Z
UID:11001-1784885400-1784932200@advantagebarrow.com
SUMMARY:Rambling Raiders
DESCRIPTION:Well Being walk\, lead by our trained walk leaders\, supported by The Ramblers and Active Cumbria. To find out where our walks are taking place\, join our Private Facebook group ‘Advantage! Rambling Raiders’ or click the link below. 						\n				\n				\n				\n					\n			\n						\n						Find out more about Rambling Raiders
URL:https://advantagebarrow.com/event/rambling-raiders/2026-07-24/
LOCATION:Various locations
CATEGORIES:Rambling Raiders
ATTACH;FMTTYPE=image/jpeg:https://advantagebarrow.com/wp-content/uploads/2022/06/PHOTO-2022-06-29-07-59-22-2.jpg
ORGANIZER;CN="Advantage%21%20Barrow":MAILTO:advantage@barrowrlfc.com
END:VEVENT
BEGIN:VEVENT
DTSTART;TZID=UTC:20260731T093000
DTEND;TZID=UTC:20260731T223000
DTSTAMP:20260420T101038
CREATED:20220712T124059Z
LAST-MODIFIED:20220712T124059Z
UID:11008-1785490200-1785537000@advantagebarrow.com
SUMMARY:Rambling Raiders
DESCRIPTION:Well Being walk\, lead by our trained walk leaders\, supported by The Ramblers and Active Cumbria. To find out where our walks are taking place\, join our Private Facebook group ‘Advantage! Rambling Raiders’ or click the link below. 						\n				\n				\n				\n					\n			\n						\n						Find out more about Rambling Raiders
URL:https://advantagebarrow.com/event/rambling-raiders/2026-07-31/
LOCATION:Various locations
CATEGORIES:Rambling Raiders
ATTACH;FMTTYPE=image/jpeg:https://advantagebarrow.com/wp-content/uploads/2022/06/PHOTO-2022-06-29-07-59-22-2.jpg
ORGANIZER;CN="Advantage%21%20Barrow":MAILTO:advantage@barrowrlfc.com
END:VEVENT
BEGIN:VEVENT
DTSTART;TZID=UTC:20260807T093000
DTEND;TZID=UTC:20260807T223000
DTSTAMP:20260420T101038
CREATED:20220712T124059Z
LAST-MODIFIED:20220712T124059Z
UID:11015-1786095000-1786141800@advantagebarrow.com
SUMMARY:Rambling Raiders
DESCRIPTION:Well Being walk\, lead by our trained walk leaders\, supported by The Ramblers and Active Cumbria. To find out where our walks are taking place\, join our Private Facebook group ‘Advantage! Rambling Raiders’ or click the link below. 						\n				\n				\n				\n					\n			\n						\n						Find out more about Rambling Raiders
URL:https://advantagebarrow.com/event/rambling-raiders/2026-08-07/
LOCATION:Various locations
CATEGORIES:Rambling Raiders
ATTACH;FMTTYPE=image/jpeg:https://advantagebarrow.com/wp-content/uploads/2022/06/PHOTO-2022-06-29-07-59-22-2.jpg
ORGANIZER;CN="Advantage%21%20Barrow":MAILTO:advantage@barrowrlfc.com
END:VEVENT
BEGIN:VEVENT
DTSTART;TZID=UTC:20260814T093000
DTEND;TZID=UTC:20260814T223000
DTSTAMP:20260420T101038
CREATED:20220712T124059Z
LAST-MODIFIED:20220712T124059Z
UID:11022-1786699800-1786746600@advantagebarrow.com
SUMMARY:Rambling Raiders
DESCRIPTION:Well Being walk\, lead by our trained walk leaders\, supported by The Ramblers and Active Cumbria. To find out where our walks are taking place\, join our Private Facebook group ‘Advantage! Rambling Raiders’ or click the link below. 						\n				\n				\n				\n					\n			\n						\n						Find out more about Rambling Raiders
URL:https://advantagebarrow.com/event/rambling-raiders/2026-08-14/
LOCATION:Various locations
CATEGORIES:Rambling Raiders
ATTACH;FMTTYPE=image/jpeg:https://advantagebarrow.com/wp-content/uploads/2022/06/PHOTO-2022-06-29-07-59-22-2.jpg
ORGANIZER;CN="Advantage%21%20Barrow":MAILTO:advantage@barrowrlfc.com
END:VEVENT
BEGIN:VEVENT
DTSTART;TZID=UTC:20260821T093000
DTEND;TZID=UTC:20260821T223000
DTSTAMP:20260420T101038
CREATED:20220712T124059Z
LAST-MODIFIED:20220712T124059Z
UID:11061-1787304600-1787351400@advantagebarrow.com
SUMMARY:Rambling Raiders
DESCRIPTION:Well Being walk\, lead by our trained walk leaders\, supported by The Ramblers and Active Cumbria. To find out where our walks are taking place\, join our Private Facebook group ‘Advantage! Rambling Raiders’ or click the link below. 						\n				\n				\n				\n					\n			\n						\n						Find out more about Rambling Raiders
URL:https://advantagebarrow.com/event/rambling-raiders/2026-08-21/
LOCATION:Various locations
CATEGORIES:Rambling Raiders
ATTACH;FMTTYPE=image/jpeg:https://advantagebarrow.com/wp-content/uploads/2022/06/PHOTO-2022-06-29-07-59-22-2.jpg
ORGANIZER;CN="Advantage%21%20Barrow":MAILTO:advantage@barrowrlfc.com
END:VEVENT
BEGIN:VEVENT
DTSTART;TZID=UTC:20260828T093000
DTEND;TZID=UTC:20260828T223000
DTSTAMP:20260420T101038
CREATED:20220712T124059Z
LAST-MODIFIED:20220712T124059Z
UID:11069-1787909400-1787956200@advantagebarrow.com
SUMMARY:Rambling Raiders
DESCRIPTION:Well Being walk\, lead by our trained walk leaders\, supported by The Ramblers and Active Cumbria. To find out where our walks are taking place\, join our Private Facebook group ‘Advantage! Rambling Raiders’ or click the link below. 						\n				\n				\n				\n					\n			\n						\n						Find out more about Rambling Raiders
URL:https://advantagebarrow.com/event/rambling-raiders/2026-08-28/
LOCATION:Various locations
CATEGORIES:Rambling Raiders
ATTACH;FMTTYPE=image/jpeg:https://advantagebarrow.com/wp-content/uploads/2022/06/PHOTO-2022-06-29-07-59-22-2.jpg
ORGANIZER;CN="Advantage%21%20Barrow":MAILTO:advantage@barrowrlfc.com
END:VEVENT
BEGIN:VEVENT
DTSTART;TZID=UTC:20260904T093000
DTEND;TZID=UTC:20260904T223000
DTSTAMP:20260420T101038
CREATED:20220712T124059Z
LAST-MODIFIED:20220712T124059Z
UID:11076-1788514200-1788561000@advantagebarrow.com
SUMMARY:Rambling Raiders
DESCRIPTION:Well Being walk\, lead by our trained walk leaders\, supported by The Ramblers and Active Cumbria. To find out where our walks are taking place\, join our Private Facebook group ‘Advantage! Rambling Raiders’ or click the link below. 						\n				\n				\n				\n					\n			\n						\n						Find out more about Rambling Raiders
URL:https://advantagebarrow.com/event/rambling-raiders/2026-09-04/
LOCATION:Various locations
CATEGORIES:Rambling Raiders
ATTACH;FMTTYPE=image/jpeg:https://advantagebarrow.com/wp-content/uploads/2022/06/PHOTO-2022-06-29-07-59-22-2.jpg
ORGANIZER;CN="Advantage%21%20Barrow":MAILTO:advantage@barrowrlfc.com
END:VEVENT
BEGIN:VEVENT
DTSTART;TZID=UTC:20260911T093000
DTEND;TZID=UTC:20260911T223000
DTSTAMP:20260420T101038
CREATED:20220712T124059Z
LAST-MODIFIED:20220712T124059Z
UID:11191-1789119000-1789165800@advantagebarrow.com
SUMMARY:Rambling Raiders
DESCRIPTION:Well Being walk\, lead by our trained walk leaders\, supported by The Ramblers and Active Cumbria. To find out where our walks are taking place\, join our Private Facebook group ‘Advantage! Rambling Raiders’ or click the link below. 						\n				\n				\n				\n					\n			\n						\n						Find out more about Rambling Raiders
URL:https://advantagebarrow.com/event/rambling-raiders/2026-09-11/
LOCATION:Various locations
CATEGORIES:Rambling Raiders
ATTACH;FMTTYPE=image/jpeg:https://advantagebarrow.com/wp-content/uploads/2022/06/PHOTO-2022-06-29-07-59-22-2.jpg
ORGANIZER;CN="Advantage%21%20Barrow":MAILTO:advantage@barrowrlfc.com
END:VEVENT
BEGIN:VEVENT
DTSTART;TZID=UTC:20260918T093000
DTEND;TZID=UTC:20260918T223000
DTSTAMP:20260420T101038
CREATED:20220712T124059Z
LAST-MODIFIED:20220712T124059Z
UID:11213-1789723800-1789770600@advantagebarrow.com
SUMMARY:Rambling Raiders
DESCRIPTION:Well Being walk\, lead by our trained walk leaders\, supported by The Ramblers and Active Cumbria. To find out where our walks are taking place\, join our Private Facebook group ‘Advantage! Rambling Raiders’ or click the link below. 						\n				\n				\n				\n					\n			\n						\n						Find out more about Rambling Raiders
URL:https://advantagebarrow.com/event/rambling-raiders/2026-09-18/
LOCATION:Various locations
CATEGORIES:Rambling Raiders
ATTACH;FMTTYPE=image/jpeg:https://advantagebarrow.com/wp-content/uploads/2022/06/PHOTO-2022-06-29-07-59-22-2.jpg
ORGANIZER;CN="Advantage%21%20Barrow":MAILTO:advantage@barrowrlfc.com
END:VEVENT
BEGIN:VEVENT
DTSTART;TZID=UTC:20260925T093000
DTEND;TZID=UTC:20260925T223000
DTSTAMP:20260420T101038
CREATED:20220712T124059Z
LAST-MODIFIED:20220712T124059Z
UID:11230-1790328600-1790375400@advantagebarrow.com
SUMMARY:Rambling Raiders
DESCRIPTION:Well Being walk\, lead by our trained walk leaders\, supported by The Ramblers and Active Cumbria. To find out where our walks are taking place\, join our Private Facebook group ‘Advantage! Rambling Raiders’ or click the link below. 						\n				\n				\n				\n					\n			\n						\n						Find out more about Rambling Raiders
URL:https://advantagebarrow.com/event/rambling-raiders/2026-09-25/
LOCATION:Various locations
CATEGORIES:Rambling Raiders
ATTACH;FMTTYPE=image/jpeg:https://advantagebarrow.com/wp-content/uploads/2022/06/PHOTO-2022-06-29-07-59-22-2.jpg
ORGANIZER;CN="Advantage%21%20Barrow":MAILTO:advantage@barrowrlfc.com
END:VEVENT
BEGIN:VEVENT
DTSTART;TZID=UTC:20261002T093000
DTEND;TZID=UTC:20261002T223000
DTSTAMP:20260420T101038
CREATED:20220712T124059Z
LAST-MODIFIED:20220712T124059Z
UID:11273-1790933400-1790980200@advantagebarrow.com
SUMMARY:Rambling Raiders
DESCRIPTION:Well Being walk\, lead by our trained walk leaders\, supported by The Ramblers and Active Cumbria. To find out where our walks are taking place\, join our Private Facebook group ‘Advantage! Rambling Raiders’ or click the link below. 						\n				\n				\n				\n					\n			\n						\n						Find out more about Rambling Raiders
URL:https://advantagebarrow.com/event/rambling-raiders/2026-10-02/
LOCATION:Various locations
CATEGORIES:Rambling Raiders
ATTACH;FMTTYPE=image/jpeg:https://advantagebarrow.com/wp-content/uploads/2022/06/PHOTO-2022-06-29-07-59-22-2.jpg
ORGANIZER;CN="Advantage%21%20Barrow":MAILTO:advantage@barrowrlfc.com
END:VEVENT
BEGIN:VEVENT
DTSTART;TZID=UTC:20261009T093000
DTEND;TZID=UTC:20261009T223000
DTSTAMP:20260420T101038
CREATED:20220712T124059Z
LAST-MODIFIED:20220712T124059Z
UID:11280-1791538200-1791585000@advantagebarrow.com
SUMMARY:Rambling Raiders
DESCRIPTION:Well Being walk\, lead by our trained walk leaders\, supported by The Ramblers and Active Cumbria. To find out where our walks are taking place\, join our Private Facebook group ‘Advantage! Rambling Raiders’ or click the link below. 						\n				\n				\n				\n					\n			\n						\n						Find out more about Rambling Raiders
URL:https://advantagebarrow.com/event/rambling-raiders/2026-10-09/
LOCATION:Various locations
CATEGORIES:Rambling Raiders
ATTACH;FMTTYPE=image/jpeg:https://advantagebarrow.com/wp-content/uploads/2022/06/PHOTO-2022-06-29-07-59-22-2.jpg
ORGANIZER;CN="Advantage%21%20Barrow":MAILTO:advantage@barrowrlfc.com
END:VEVENT
BEGIN:VEVENT
DTSTART;TZID=UTC:20261016T093000
DTEND;TZID=UTC:20261016T223000
DTSTAMP:20260420T101038
CREATED:20220712T124059Z
LAST-MODIFIED:20220712T124059Z
UID:11287-1792143000-1792189800@advantagebarrow.com
SUMMARY:Rambling Raiders
DESCRIPTION:Well Being walk\, lead by our trained walk leaders\, supported by The Ramblers and Active Cumbria. To find out where our walks are taking place\, join our Private Facebook group ‘Advantage! Rambling Raiders’ or click the link below. 						\n				\n				\n				\n					\n			\n						\n						Find out more about Rambling Raiders
URL:https://advantagebarrow.com/event/rambling-raiders/2026-10-16/
LOCATION:Various locations
CATEGORIES:Rambling Raiders
ATTACH;FMTTYPE=image/jpeg:https://advantagebarrow.com/wp-content/uploads/2022/06/PHOTO-2022-06-29-07-59-22-2.jpg
ORGANIZER;CN="Advantage%21%20Barrow":MAILTO:advantage@barrowrlfc.com
END:VEVENT
BEGIN:VEVENT
DTSTART;TZID=UTC:20261023T093000
DTEND;TZID=UTC:20261023T223000
DTSTAMP:20260420T101038
CREATED:20220712T124059Z
LAST-MODIFIED:20220712T124059Z
UID:11294-1792747800-1792794600@advantagebarrow.com
SUMMARY:Rambling Raiders
DESCRIPTION:Well Being walk\, lead by our trained walk leaders\, supported by The Ramblers and Active Cumbria. To find out where our walks are taking place\, join our Private Facebook group ‘Advantage! Rambling Raiders’ or click the link below. 						\n				\n				\n				\n					\n			\n						\n						Find out more about Rambling Raiders
URL:https://advantagebarrow.com/event/rambling-raiders/2026-10-23/
LOCATION:Various locations
CATEGORIES:Rambling Raiders
ATTACH;FMTTYPE=image/jpeg:https://advantagebarrow.com/wp-content/uploads/2022/06/PHOTO-2022-06-29-07-59-22-2.jpg
ORGANIZER;CN="Advantage%21%20Barrow":MAILTO:advantage@barrowrlfc.com
END:VEVENT
BEGIN:VEVENT
DTSTART;TZID=UTC:20261030T093000
DTEND;TZID=UTC:20261030T223000
DTSTAMP:20260420T101038
CREATED:20220712T124059Z
LAST-MODIFIED:20220712T124059Z
UID:11301-1793352600-1793399400@advantagebarrow.com
SUMMARY:Rambling Raiders
DESCRIPTION:Well Being walk\, lead by our trained walk leaders\, supported by The Ramblers and Active Cumbria. To find out where our walks are taking place\, join our Private Facebook group ‘Advantage! Rambling Raiders’ or click the link below. 						\n				\n				\n				\n					\n			\n						\n						Find out more about Rambling Raiders
URL:https://advantagebarrow.com/event/rambling-raiders/2026-10-30/
LOCATION:Various locations
CATEGORIES:Rambling Raiders
ATTACH;FMTTYPE=image/jpeg:https://advantagebarrow.com/wp-content/uploads/2022/06/PHOTO-2022-06-29-07-59-22-2.jpg
ORGANIZER;CN="Advantage%21%20Barrow":MAILTO:advantage@barrowrlfc.com
END:VEVENT
BEGIN:VEVENT
DTSTART;TZID=UTC:20261106T093000
DTEND;TZID=UTC:20261106T223000
DTSTAMP:20260420T101038
CREATED:20220712T124059Z
LAST-MODIFIED:20220712T124059Z
UID:11309-1793957400-1794004200@advantagebarrow.com
SUMMARY:Rambling Raiders
DESCRIPTION:Well Being walk\, lead by our trained walk leaders\, supported by The Ramblers and Active Cumbria. To find out where our walks are taking place\, join our Private Facebook group ‘Advantage! Rambling Raiders’ or click the link below. 						\n				\n				\n				\n					\n			\n						\n						Find out more about Rambling Raiders
URL:https://advantagebarrow.com/event/rambling-raiders/2026-11-06/
LOCATION:Various locations
CATEGORIES:Rambling Raiders
ATTACH;FMTTYPE=image/jpeg:https://advantagebarrow.com/wp-content/uploads/2022/06/PHOTO-2022-06-29-07-59-22-2.jpg
ORGANIZER;CN="Advantage%21%20Barrow":MAILTO:advantage@barrowrlfc.com
END:VEVENT
BEGIN:VEVENT
DTSTART;TZID=UTC:20261113T093000
DTEND;TZID=UTC:20261113T223000
DTSTAMP:20260420T101038
CREATED:20220712T124059Z
LAST-MODIFIED:20220712T124059Z
UID:11317-1794562200-1794609000@advantagebarrow.com
SUMMARY:Rambling Raiders
DESCRIPTION:Well Being walk\, lead by our trained walk leaders\, supported by The Ramblers and Active Cumbria. To find out where our walks are taking place\, join our Private Facebook group ‘Advantage! Rambling Raiders’ or click the link below. 						\n				\n				\n				\n					\n			\n						\n						Find out more about Rambling Raiders
URL:https://advantagebarrow.com/event/rambling-raiders/2026-11-13/
LOCATION:Various locations
CATEGORIES:Rambling Raiders
ATTACH;FMTTYPE=image/jpeg:https://advantagebarrow.com/wp-content/uploads/2022/06/PHOTO-2022-06-29-07-59-22-2.jpg
ORGANIZER;CN="Advantage%21%20Barrow":MAILTO:advantage@barrowrlfc.com
END:VEVENT
BEGIN:VEVENT
DTSTART;TZID=UTC:20261120T093000
DTEND;TZID=UTC:20261120T223000
DTSTAMP:20260420T101038
CREATED:20220712T124059Z
LAST-MODIFIED:20220712T124059Z
UID:11383-1795167000-1795213800@advantagebarrow.com
SUMMARY:Rambling Raiders
DESCRIPTION:Well Being walk\, lead by our trained walk leaders\, supported by The Ramblers and Active Cumbria. To find out where our walks are taking place\, join our Private Facebook group ‘Advantage! Rambling Raiders’ or click the link below. 						\n				\n				\n				\n					\n			\n						\n						Find out more about Rambling Raiders
URL:https://advantagebarrow.com/event/rambling-raiders/2026-11-20/
LOCATION:Various locations
CATEGORIES:Rambling Raiders
ATTACH;FMTTYPE=image/jpeg:https://advantagebarrow.com/wp-content/uploads/2022/06/PHOTO-2022-06-29-07-59-22-2.jpg
ORGANIZER;CN="Advantage%21%20Barrow":MAILTO:advantage@barrowrlfc.com
END:VEVENT
BEGIN:VEVENT
DTSTART;TZID=UTC:20261127T093000
DTEND;TZID=UTC:20261127T223000
DTSTAMP:20260420T101038
CREATED:20220712T124059Z
LAST-MODIFIED:20220712T124059Z
UID:11390-1795771800-1795818600@advantagebarrow.com
SUMMARY:Rambling Raiders
DESCRIPTION:Well Being walk\, lead by our trained walk leaders\, supported by The Ramblers and Active Cumbria. To find out where our walks are taking place\, join our Private Facebook group ‘Advantage! Rambling Raiders’ or click the link below. 						\n				\n				\n				\n					\n			\n						\n						Find out more about Rambling Raiders
URL:https://advantagebarrow.com/event/rambling-raiders/2026-11-27/
LOCATION:Various locations
CATEGORIES:Rambling Raiders
ATTACH;FMTTYPE=image/jpeg:https://advantagebarrow.com/wp-content/uploads/2022/06/PHOTO-2022-06-29-07-59-22-2.jpg
ORGANIZER;CN="Advantage%21%20Barrow":MAILTO:advantage@barrowrlfc.com
END:VEVENT
BEGIN:VEVENT
DTSTART;TZID=UTC:20261204T093000
DTEND;TZID=UTC:20261204T223000
DTSTAMP:20260420T101039
CREATED:20220712T124059Z
LAST-MODIFIED:20220712T124059Z
UID:11397-1796376600-1796423400@advantagebarrow.com
SUMMARY:Rambling Raiders
DESCRIPTION:Well Being walk\, lead by our trained walk leaders\, supported by The Ramblers and Active Cumbria. To find out where our walks are taking place\, join our Private Facebook group ‘Advantage! Rambling Raiders’ or click the link below. 						\n				\n				\n				\n					\n			\n						\n						Find out more about Rambling Raiders
URL:https://advantagebarrow.com/event/rambling-raiders/2026-12-04/
LOCATION:Various locations
CATEGORIES:Rambling Raiders
ATTACH;FMTTYPE=image/jpeg:https://advantagebarrow.com/wp-content/uploads/2022/06/PHOTO-2022-06-29-07-59-22-2.jpg
ORGANIZER;CN="Advantage%21%20Barrow":MAILTO:advantage@barrowrlfc.com
END:VEVENT
BEGIN:VEVENT
DTSTART;TZID=UTC:20261211T093000
DTEND;TZID=UTC:20261211T223000
DTSTAMP:20260420T101039
CREATED:20220712T124059Z
LAST-MODIFIED:20220712T124059Z
UID:11481-1796981400-1797028200@advantagebarrow.com
SUMMARY:Rambling Raiders
DESCRIPTION:Well Being walk\, lead by our trained walk leaders\, supported by The Ramblers and Active Cumbria. To find out where our walks are taking place\, join our Private Facebook group ‘Advantage! Rambling Raiders’ or click the link below. 						\n				\n				\n				\n					\n			\n						\n						Find out more about Rambling Raiders
URL:https://advantagebarrow.com/event/rambling-raiders/2026-12-11/
LOCATION:Various locations
CATEGORIES:Rambling Raiders
ATTACH;FMTTYPE=image/jpeg:https://advantagebarrow.com/wp-content/uploads/2022/06/PHOTO-2022-06-29-07-59-22-2.jpg
ORGANIZER;CN="Advantage%21%20Barrow":MAILTO:advantage@barrowrlfc.com
END:VEVENT
BEGIN:VEVENT
DTSTART;TZID=UTC:20261218T093000
DTEND;TZID=UTC:20261218T223000
DTSTAMP:20260420T101039
CREATED:20220712T124059Z
LAST-MODIFIED:20220712T124059Z
UID:11488-1797586200-1797633000@advantagebarrow.com
SUMMARY:Rambling Raiders
DESCRIPTION:Well Being walk\, lead by our trained walk leaders\, supported by The Ramblers and Active Cumbria. To find out where our walks are taking place\, join our Private Facebook group ‘Advantage! Rambling Raiders’ or click the link below. 						\n				\n				\n				\n					\n			\n						\n						Find out more about Rambling Raiders
URL:https://advantagebarrow.com/event/rambling-raiders/2026-12-18/
LOCATION:Various locations
CATEGORIES:Rambling Raiders
ATTACH;FMTTYPE=image/jpeg:https://advantagebarrow.com/wp-content/uploads/2022/06/PHOTO-2022-06-29-07-59-22-2.jpg
ORGANIZER;CN="Advantage%21%20Barrow":MAILTO:advantage@barrowrlfc.com
END:VEVENT
BEGIN:VEVENT
DTSTART;TZID=UTC:20261225T093000
DTEND;TZID=UTC:20261225T223000
DTSTAMP:20260420T101039
CREATED:20220712T124059Z
LAST-MODIFIED:20220712T124059Z
UID:11495-1798191000-1798237800@advantagebarrow.com
SUMMARY:Rambling Raiders
DESCRIPTION:Well Being walk\, lead by our trained walk leaders\, supported by The Ramblers and Active Cumbria. To find out where our walks are taking place\, join our Private Facebook group ‘Advantage! Rambling Raiders’ or click the link below. 						\n				\n				\n				\n					\n			\n						\n						Find out more about Rambling Raiders
URL:https://advantagebarrow.com/event/rambling-raiders/2026-12-25/
LOCATION:Various locations
CATEGORIES:Rambling Raiders
ATTACH;FMTTYPE=image/jpeg:https://advantagebarrow.com/wp-content/uploads/2022/06/PHOTO-2022-06-29-07-59-22-2.jpg
ORGANIZER;CN="Advantage%21%20Barrow":MAILTO:advantage@barrowrlfc.com
END:VEVENT
BEGIN:VEVENT
DTSTART;TZID=UTC:20270101T093000
DTEND;TZID=UTC:20270101T223000
DTSTAMP:20260420T101039
CREATED:20220712T124059Z
LAST-MODIFIED:20220712T124059Z
UID:11502-1798795800-1798842600@advantagebarrow.com
SUMMARY:Rambling Raiders
DESCRIPTION:Well Being walk\, lead by our trained walk leaders\, supported by The Ramblers and Active Cumbria. To find out where our walks are taking place\, join our Private Facebook group ‘Advantage! Rambling Raiders’ or click the link below. 						\n				\n				\n				\n					\n			\n						\n						Find out more about Rambling Raiders
URL:https://advantagebarrow.com/event/rambling-raiders/2027-01-01/
LOCATION:Various locations
CATEGORIES:Rambling Raiders
ATTACH;FMTTYPE=image/jpeg:https://advantagebarrow.com/wp-content/uploads/2022/06/PHOTO-2022-06-29-07-59-22-2.jpg
ORGANIZER;CN="Advantage%21%20Barrow":MAILTO:advantage@barrowrlfc.com
END:VEVENT
BEGIN:VEVENT
DTSTART;TZID=UTC:20270108T093000
DTEND;TZID=UTC:20270108T223000
DTSTAMP:20260420T101039
CREATED:20220712T124059Z
LAST-MODIFIED:20220712T124059Z
UID:11509-1799400600-1799447400@advantagebarrow.com
SUMMARY:Rambling Raiders
DESCRIPTION:Well Being walk\, lead by our trained walk leaders\, supported by The Ramblers and Active Cumbria. To find out where our walks are taking place\, join our Private Facebook group ‘Advantage! Rambling Raiders’ or click the link below. 						\n				\n				\n				\n					\n			\n						\n						Find out more about Rambling Raiders
URL:https://advantagebarrow.com/event/rambling-raiders/2027-01-08/
LOCATION:Various locations
CATEGORIES:Rambling Raiders
ATTACH;FMTTYPE=image/jpeg:https://advantagebarrow.com/wp-content/uploads/2022/06/PHOTO-2022-06-29-07-59-22-2.jpg
ORGANIZER;CN="Advantage%21%20Barrow":MAILTO:advantage@barrowrlfc.com
END:VEVENT
BEGIN:VEVENT
DTSTART;TZID=UTC:20270115T093000
DTEND;TZID=UTC:20270115T223000
DTSTAMP:20260420T101039
CREATED:20220712T124059Z
LAST-MODIFIED:20220712T124059Z
UID:11516-1800005400-1800052200@advantagebarrow.com
SUMMARY:Rambling Raiders
DESCRIPTION:Well Being walk\, lead by our trained walk leaders\, supported by The Ramblers and Active Cumbria. To find out where our walks are taking place\, join our Private Facebook group ‘Advantage! Rambling Raiders’ or click the link below. 						\n				\n				\n				\n					\n			\n						\n						Find out more about Rambling Raiders
URL:https://advantagebarrow.com/event/rambling-raiders/2027-01-15/
LOCATION:Various locations
CATEGORIES:Rambling Raiders
ATTACH;FMTTYPE=image/jpeg:https://advantagebarrow.com/wp-content/uploads/2022/06/PHOTO-2022-06-29-07-59-22-2.jpg
ORGANIZER;CN="Advantage%21%20Barrow":MAILTO:advantage@barrowrlfc.com
END:VEVENT
BEGIN:VEVENT
DTSTART;TZID=UTC:20270122T093000
DTEND;TZID=UTC:20270122T223000
DTSTAMP:20260420T101039
CREATED:20220712T124059Z
LAST-MODIFIED:20220712T124059Z
UID:11523-1800610200-1800657000@advantagebarrow.com
SUMMARY:Rambling Raiders
DESCRIPTION:Well Being walk\, lead by our trained walk leaders\, supported by The Ramblers and Active Cumbria. To find out where our walks are taking place\, join our Private Facebook group ‘Advantage! Rambling Raiders’ or click the link below. 						\n				\n				\n				\n					\n			\n						\n						Find out more about Rambling Raiders
URL:https://advantagebarrow.com/event/rambling-raiders/2027-01-22/
LOCATION:Various locations
CATEGORIES:Rambling Raiders
ATTACH;FMTTYPE=image/jpeg:https://advantagebarrow.com/wp-content/uploads/2022/06/PHOTO-2022-06-29-07-59-22-2.jpg
ORGANIZER;CN="Advantage%21%20Barrow":MAILTO:advantage@barrowrlfc.com
END:VEVENT
BEGIN:VEVENT
DTSTART;TZID=UTC:20270129T093000
DTEND;TZID=UTC:20270129T223000
DTSTAMP:20260420T101039
CREATED:20220712T124059Z
LAST-MODIFIED:20220712T124059Z
UID:11531-1801215000-1801261800@advantagebarrow.com
SUMMARY:Rambling Raiders
DESCRIPTION:Well Being walk\, lead by our trained walk leaders\, supported by The Ramblers and Active Cumbria. To find out where our walks are taking place\, join our Private Facebook group ‘Advantage! Rambling Raiders’ or click the link below. 						\n				\n				\n				\n					\n			\n						\n						Find out more about Rambling Raiders
URL:https://advantagebarrow.com/event/rambling-raiders/2027-01-29/
LOCATION:Various locations
CATEGORIES:Rambling Raiders
ATTACH;FMTTYPE=image/jpeg:https://advantagebarrow.com/wp-content/uploads/2022/06/PHOTO-2022-06-29-07-59-22-2.jpg
ORGANIZER;CN="Advantage%21%20Barrow":MAILTO:advantage@barrowrlfc.com
END:VEVENT
BEGIN:VEVENT
DTSTART;TZID=UTC:20270205T093000
DTEND;TZID=UTC:20270205T223000
DTSTAMP:20260420T101039
CREATED:20220712T124059Z
LAST-MODIFIED:20220712T124059Z
UID:11556-1801819800-1801866600@advantagebarrow.com
SUMMARY:Rambling Raiders
DESCRIPTION:Well Being walk\, lead by our trained walk leaders\, supported by The Ramblers and Active Cumbria. To find out where our walks are taking place\, join our Private Facebook group ‘Advantage! Rambling Raiders’ or click the link below. 						\n				\n				\n				\n					\n			\n						\n						Find out more about Rambling Raiders
URL:https://advantagebarrow.com/event/rambling-raiders/2027-02-05/
LOCATION:Various locations
CATEGORIES:Rambling Raiders
ATTACH;FMTTYPE=image/jpeg:https://advantagebarrow.com/wp-content/uploads/2022/06/PHOTO-2022-06-29-07-59-22-2.jpg
ORGANIZER;CN="Advantage%21%20Barrow":MAILTO:advantage@barrowrlfc.com
END:VEVENT
END:VCALENDAR