BEGIN:VCALENDAR
VERSION:2.0
PRODID:-//Advantage! Barrow Raiders - ECPv5.16.2.1//NONSGML v1.0//EN
CALSCALE:GREGORIAN
METHOD:PUBLISH
X-ORIGINAL-URL:https://advantagebarrow.com
X-WR-CALDESC:Events for Advantage! Barrow Raiders
REFRESH-INTERVAL;VALUE=DURATION:PT1H
X-Robots-Tag:noindex
X-PUBLISHED-TTL:PT1H
BEGIN:VTIMEZONE
TZID:UTC
BEGIN:STANDARD
TZOFFSETFROM:+0000
TZOFFSETTO:+0000
TZNAME:UTC
DTSTART:20260101T000000
END:STANDARD
END:VTIMEZONE
BEGIN:VEVENT
DTSTART;TZID=UTC:20260715T103000
DTEND;TZID=UTC:20260715T120000
DTSTAMP:20260419T093722
CREATED:20220720T141349Z
LAST-MODIFIED:20220720T141349Z
UID:10963-1784111400-1784116800@advantagebarrow.com
SUMMARY:Able Raiders Sports Session
DESCRIPTION:Funded by Furness Building Society and Mencap\, Multi sports sessions to ensure inclusion from all our participants and opportunity to develop skills and abilities in a range of activities\n						\n				\n				\n				\n					\n			\n						\n						Find out more about Able Raiders
URL:https://advantagebarrow.com/event/able-raiders-sports-session/2026-07-15/
LOCATION:Hoops Basketball Centre\, 48 Thorncliffe Road\, Barrow-In-Furness\, Cumbria\, LA14 5QA\, United Kingdom
CATEGORIES:Able Raiders
ATTACH;FMTTYPE=image/jpeg:https://advantagebarrow.com/wp-content/uploads/2022/07/WhatsApp-Image-2022-06-21-at-1.15.21-PM-19-2.jpeg
ORGANIZER;CN="Advantage%21%20Barrow":MAILTO:advantage@barrowrlfc.com
END:VEVENT
BEGIN:VEVENT
DTSTART;TZID=UTC:20260722T103000
DTEND;TZID=UTC:20260722T120000
DTSTAMP:20260419T093722
CREATED:20220720T141349Z
LAST-MODIFIED:20220720T141349Z
UID:10996-1784716200-1784721600@advantagebarrow.com
SUMMARY:Able Raiders Sports Session
DESCRIPTION:Funded by Furness Building Society and Mencap\, Multi sports sessions to ensure inclusion from all our participants and opportunity to develop skills and abilities in a range of activities\n						\n				\n				\n				\n					\n			\n						\n						Find out more about Able Raiders
URL:https://advantagebarrow.com/event/able-raiders-sports-session/2026-07-22/
LOCATION:Hoops Basketball Centre\, 48 Thorncliffe Road\, Barrow-In-Furness\, Cumbria\, LA14 5QA\, United Kingdom
CATEGORIES:Able Raiders
ATTACH;FMTTYPE=image/jpeg:https://advantagebarrow.com/wp-content/uploads/2022/07/WhatsApp-Image-2022-06-21-at-1.15.21-PM-19-2.jpeg
ORGANIZER;CN="Advantage%21%20Barrow":MAILTO:advantage@barrowrlfc.com
END:VEVENT
BEGIN:VEVENT
DTSTART;TZID=UTC:20260729T103000
DTEND;TZID=UTC:20260729T120000
DTSTAMP:20260419T093722
CREATED:20220720T141349Z
LAST-MODIFIED:20220720T141349Z
UID:11003-1785321000-1785326400@advantagebarrow.com
SUMMARY:Able Raiders Sports Session
DESCRIPTION:Funded by Furness Building Society and Mencap\, Multi sports sessions to ensure inclusion from all our participants and opportunity to develop skills and abilities in a range of activities\n						\n				\n				\n				\n					\n			\n						\n						Find out more about Able Raiders
URL:https://advantagebarrow.com/event/able-raiders-sports-session/2026-07-29/
LOCATION:Hoops Basketball Centre\, 48 Thorncliffe Road\, Barrow-In-Furness\, Cumbria\, LA14 5QA\, United Kingdom
CATEGORIES:Able Raiders
ATTACH;FMTTYPE=image/jpeg:https://advantagebarrow.com/wp-content/uploads/2022/07/WhatsApp-Image-2022-06-21-at-1.15.21-PM-19-2.jpeg
ORGANIZER;CN="Advantage%21%20Barrow":MAILTO:advantage@barrowrlfc.com
END:VEVENT
BEGIN:VEVENT
DTSTART;TZID=UTC:20260805T103000
DTEND;TZID=UTC:20260805T120000
DTSTAMP:20260419T093722
CREATED:20220720T141349Z
LAST-MODIFIED:20220720T141349Z
UID:11010-1785925800-1785931200@advantagebarrow.com
SUMMARY:Able Raiders Sports Session
DESCRIPTION:Funded by Furness Building Society and Mencap\, Multi sports sessions to ensure inclusion from all our participants and opportunity to develop skills and abilities in a range of activities\n						\n				\n				\n				\n					\n			\n						\n						Find out more about Able Raiders
URL:https://advantagebarrow.com/event/able-raiders-sports-session/2026-08-05/
LOCATION:Hoops Basketball Centre\, 48 Thorncliffe Road\, Barrow-In-Furness\, Cumbria\, LA14 5QA\, United Kingdom
CATEGORIES:Able Raiders
ATTACH;FMTTYPE=image/jpeg:https://advantagebarrow.com/wp-content/uploads/2022/07/WhatsApp-Image-2022-06-21-at-1.15.21-PM-19-2.jpeg
ORGANIZER;CN="Advantage%21%20Barrow":MAILTO:advantage@barrowrlfc.com
END:VEVENT
BEGIN:VEVENT
DTSTART;TZID=UTC:20260812T103000
DTEND;TZID=UTC:20260812T120000
DTSTAMP:20260419T093722
CREATED:20220720T141349Z
LAST-MODIFIED:20220720T141349Z
UID:11017-1786530600-1786536000@advantagebarrow.com
SUMMARY:Able Raiders Sports Session
DESCRIPTION:Funded by Furness Building Society and Mencap\, Multi sports sessions to ensure inclusion from all our participants and opportunity to develop skills and abilities in a range of activities\n						\n				\n				\n				\n					\n			\n						\n						Find out more about Able Raiders
URL:https://advantagebarrow.com/event/able-raiders-sports-session/2026-08-12/
LOCATION:Hoops Basketball Centre\, 48 Thorncliffe Road\, Barrow-In-Furness\, Cumbria\, LA14 5QA\, United Kingdom
CATEGORIES:Able Raiders
ATTACH;FMTTYPE=image/jpeg:https://advantagebarrow.com/wp-content/uploads/2022/07/WhatsApp-Image-2022-06-21-at-1.15.21-PM-19-2.jpeg
ORGANIZER;CN="Advantage%21%20Barrow":MAILTO:advantage@barrowrlfc.com
END:VEVENT
BEGIN:VEVENT
DTSTART;TZID=UTC:20260819T103000
DTEND;TZID=UTC:20260819T120000
DTSTAMP:20260419T093723
CREATED:20220720T141349Z
LAST-MODIFIED:20220720T141349Z
UID:11056-1787135400-1787140800@advantagebarrow.com
SUMMARY:Able Raiders Sports Session
DESCRIPTION:Funded by Furness Building Society and Mencap\, Multi sports sessions to ensure inclusion from all our participants and opportunity to develop skills and abilities in a range of activities\n						\n				\n				\n				\n					\n			\n						\n						Find out more about Able Raiders
URL:https://advantagebarrow.com/event/able-raiders-sports-session/2026-08-19/
LOCATION:Hoops Basketball Centre\, 48 Thorncliffe Road\, Barrow-In-Furness\, Cumbria\, LA14 5QA\, United Kingdom
CATEGORIES:Able Raiders
ATTACH;FMTTYPE=image/jpeg:https://advantagebarrow.com/wp-content/uploads/2022/07/WhatsApp-Image-2022-06-21-at-1.15.21-PM-19-2.jpeg
ORGANIZER;CN="Advantage%21%20Barrow":MAILTO:advantage@barrowrlfc.com
END:VEVENT
BEGIN:VEVENT
DTSTART;TZID=UTC:20260826T103000
DTEND;TZID=UTC:20260826T120000
DTSTAMP:20260419T093723
CREATED:20220720T141349Z
LAST-MODIFIED:20220720T141349Z
UID:11063-1787740200-1787745600@advantagebarrow.com
SUMMARY:Able Raiders Sports Session
DESCRIPTION:Funded by Furness Building Society and Mencap\, Multi sports sessions to ensure inclusion from all our participants and opportunity to develop skills and abilities in a range of activities\n						\n				\n				\n				\n					\n			\n						\n						Find out more about Able Raiders
URL:https://advantagebarrow.com/event/able-raiders-sports-session/2026-08-26/
LOCATION:Hoops Basketball Centre\, 48 Thorncliffe Road\, Barrow-In-Furness\, Cumbria\, LA14 5QA\, United Kingdom
CATEGORIES:Able Raiders
ATTACH;FMTTYPE=image/jpeg:https://advantagebarrow.com/wp-content/uploads/2022/07/WhatsApp-Image-2022-06-21-at-1.15.21-PM-19-2.jpeg
ORGANIZER;CN="Advantage%21%20Barrow":MAILTO:advantage@barrowrlfc.com
END:VEVENT
BEGIN:VEVENT
DTSTART;TZID=UTC:20260902T103000
DTEND;TZID=UTC:20260902T120000
DTSTAMP:20260419T093723
CREATED:20220720T141349Z
LAST-MODIFIED:20220720T141349Z
UID:11071-1788345000-1788350400@advantagebarrow.com
SUMMARY:Able Raiders Sports Session
DESCRIPTION:Funded by Furness Building Society and Mencap\, Multi sports sessions to ensure inclusion from all our participants and opportunity to develop skills and abilities in a range of activities\n						\n				\n				\n				\n					\n			\n						\n						Find out more about Able Raiders
URL:https://advantagebarrow.com/event/able-raiders-sports-session/2026-09-02/
LOCATION:Hoops Basketball Centre\, 48 Thorncliffe Road\, Barrow-In-Furness\, Cumbria\, LA14 5QA\, United Kingdom
CATEGORIES:Able Raiders
ATTACH;FMTTYPE=image/jpeg:https://advantagebarrow.com/wp-content/uploads/2022/07/WhatsApp-Image-2022-06-21-at-1.15.21-PM-19-2.jpeg
ORGANIZER;CN="Advantage%21%20Barrow":MAILTO:advantage@barrowrlfc.com
END:VEVENT
BEGIN:VEVENT
DTSTART;TZID=UTC:20260909T103000
DTEND;TZID=UTC:20260909T120000
DTSTAMP:20260419T093723
CREATED:20220720T141349Z
LAST-MODIFIED:20220720T141349Z
UID:11186-1788949800-1788955200@advantagebarrow.com
SUMMARY:Able Raiders Sports Session
DESCRIPTION:Funded by Furness Building Society and Mencap\, Multi sports sessions to ensure inclusion from all our participants and opportunity to develop skills and abilities in a range of activities\n						\n				\n				\n				\n					\n			\n						\n						Find out more about Able Raiders
URL:https://advantagebarrow.com/event/able-raiders-sports-session/2026-09-09/
LOCATION:Hoops Basketball Centre\, 48 Thorncliffe Road\, Barrow-In-Furness\, Cumbria\, LA14 5QA\, United Kingdom
CATEGORIES:Able Raiders
ATTACH;FMTTYPE=image/jpeg:https://advantagebarrow.com/wp-content/uploads/2022/07/WhatsApp-Image-2022-06-21-at-1.15.21-PM-19-2.jpeg
ORGANIZER;CN="Advantage%21%20Barrow":MAILTO:advantage@barrowrlfc.com
END:VEVENT
BEGIN:VEVENT
DTSTART;TZID=UTC:20260916T103000
DTEND;TZID=UTC:20260916T120000
DTSTAMP:20260419T093723
CREATED:20220720T141349Z
LAST-MODIFIED:20220720T141349Z
UID:11204-1789554600-1789560000@advantagebarrow.com
SUMMARY:Able Raiders Sports Session
DESCRIPTION:Funded by Furness Building Society and Mencap\, Multi sports sessions to ensure inclusion from all our participants and opportunity to develop skills and abilities in a range of activities\n						\n				\n				\n				\n					\n			\n						\n						Find out more about Able Raiders
URL:https://advantagebarrow.com/event/able-raiders-sports-session/2026-09-16/
LOCATION:Hoops Basketball Centre\, 48 Thorncliffe Road\, Barrow-In-Furness\, Cumbria\, LA14 5QA\, United Kingdom
CATEGORIES:Able Raiders
ATTACH;FMTTYPE=image/jpeg:https://advantagebarrow.com/wp-content/uploads/2022/07/WhatsApp-Image-2022-06-21-at-1.15.21-PM-19-2.jpeg
ORGANIZER;CN="Advantage%21%20Barrow":MAILTO:advantage@barrowrlfc.com
END:VEVENT
BEGIN:VEVENT
DTSTART;TZID=UTC:20260923T103000
DTEND;TZID=UTC:20260923T120000
DTSTAMP:20260419T093723
CREATED:20220720T141349Z
LAST-MODIFIED:20220720T141349Z
UID:11225-1790159400-1790164800@advantagebarrow.com
SUMMARY:Able Raiders Sports Session
DESCRIPTION:Funded by Furness Building Society and Mencap\, Multi sports sessions to ensure inclusion from all our participants and opportunity to develop skills and abilities in a range of activities\n						\n				\n				\n				\n					\n			\n						\n						Find out more about Able Raiders
URL:https://advantagebarrow.com/event/able-raiders-sports-session/2026-09-23/
LOCATION:Hoops Basketball Centre\, 48 Thorncliffe Road\, Barrow-In-Furness\, Cumbria\, LA14 5QA\, United Kingdom
CATEGORIES:Able Raiders
ATTACH;FMTTYPE=image/jpeg:https://advantagebarrow.com/wp-content/uploads/2022/07/WhatsApp-Image-2022-06-21-at-1.15.21-PM-19-2.jpeg
ORGANIZER;CN="Advantage%21%20Barrow":MAILTO:advantage@barrowrlfc.com
END:VEVENT
BEGIN:VEVENT
DTSTART;TZID=UTC:20260930T103000
DTEND;TZID=UTC:20260930T120000
DTSTAMP:20260419T093723
CREATED:20220720T141349Z
LAST-MODIFIED:20220720T141349Z
UID:11233-1790764200-1790769600@advantagebarrow.com
SUMMARY:Able Raiders Sports Session
DESCRIPTION:Funded by Furness Building Society and Mencap\, Multi sports sessions to ensure inclusion from all our participants and opportunity to develop skills and abilities in a range of activities\n						\n				\n				\n				\n					\n			\n						\n						Find out more about Able Raiders
URL:https://advantagebarrow.com/event/able-raiders-sports-session/2026-09-30/
LOCATION:Hoops Basketball Centre\, 48 Thorncliffe Road\, Barrow-In-Furness\, Cumbria\, LA14 5QA\, United Kingdom
CATEGORIES:Able Raiders
ATTACH;FMTTYPE=image/jpeg:https://advantagebarrow.com/wp-content/uploads/2022/07/WhatsApp-Image-2022-06-21-at-1.15.21-PM-19-2.jpeg
ORGANIZER;CN="Advantage%21%20Barrow":MAILTO:advantage@barrowrlfc.com
END:VEVENT
BEGIN:VEVENT
DTSTART;TZID=UTC:20261007T103000
DTEND;TZID=UTC:20261007T120000
DTSTAMP:20260419T093723
CREATED:20220720T141349Z
LAST-MODIFIED:20220720T141349Z
UID:11275-1791369000-1791374400@advantagebarrow.com
SUMMARY:Able Raiders Sports Session
DESCRIPTION:Funded by Furness Building Society and Mencap\, Multi sports sessions to ensure inclusion from all our participants and opportunity to develop skills and abilities in a range of activities\n						\n				\n				\n				\n					\n			\n						\n						Find out more about Able Raiders
URL:https://advantagebarrow.com/event/able-raiders-sports-session/2026-10-07/
LOCATION:Hoops Basketball Centre\, 48 Thorncliffe Road\, Barrow-In-Furness\, Cumbria\, LA14 5QA\, United Kingdom
CATEGORIES:Able Raiders
ATTACH;FMTTYPE=image/jpeg:https://advantagebarrow.com/wp-content/uploads/2022/07/WhatsApp-Image-2022-06-21-at-1.15.21-PM-19-2.jpeg
ORGANIZER;CN="Advantage%21%20Barrow":MAILTO:advantage@barrowrlfc.com
END:VEVENT
BEGIN:VEVENT
DTSTART;TZID=UTC:20261014T103000
DTEND;TZID=UTC:20261014T120000
DTSTAMP:20260419T093723
CREATED:20220720T141349Z
LAST-MODIFIED:20220720T141349Z
UID:11282-1791973800-1791979200@advantagebarrow.com
SUMMARY:Able Raiders Sports Session
DESCRIPTION:Funded by Furness Building Society and Mencap\, Multi sports sessions to ensure inclusion from all our participants and opportunity to develop skills and abilities in a range of activities\n						\n				\n				\n				\n					\n			\n						\n						Find out more about Able Raiders
URL:https://advantagebarrow.com/event/able-raiders-sports-session/2026-10-14/
LOCATION:Hoops Basketball Centre\, 48 Thorncliffe Road\, Barrow-In-Furness\, Cumbria\, LA14 5QA\, United Kingdom
CATEGORIES:Able Raiders
ATTACH;FMTTYPE=image/jpeg:https://advantagebarrow.com/wp-content/uploads/2022/07/WhatsApp-Image-2022-06-21-at-1.15.21-PM-19-2.jpeg
ORGANIZER;CN="Advantage%21%20Barrow":MAILTO:advantage@barrowrlfc.com
END:VEVENT
BEGIN:VEVENT
DTSTART;TZID=UTC:20261021T103000
DTEND;TZID=UTC:20261021T120000
DTSTAMP:20260419T093723
CREATED:20220720T141349Z
LAST-MODIFIED:20220720T141349Z
UID:11289-1792578600-1792584000@advantagebarrow.com
SUMMARY:Able Raiders Sports Session
DESCRIPTION:Funded by Furness Building Society and Mencap\, Multi sports sessions to ensure inclusion from all our participants and opportunity to develop skills and abilities in a range of activities\n						\n				\n				\n				\n					\n			\n						\n						Find out more about Able Raiders
URL:https://advantagebarrow.com/event/able-raiders-sports-session/2026-10-21/
LOCATION:Hoops Basketball Centre\, 48 Thorncliffe Road\, Barrow-In-Furness\, Cumbria\, LA14 5QA\, United Kingdom
CATEGORIES:Able Raiders
ATTACH;FMTTYPE=image/jpeg:https://advantagebarrow.com/wp-content/uploads/2022/07/WhatsApp-Image-2022-06-21-at-1.15.21-PM-19-2.jpeg
ORGANIZER;CN="Advantage%21%20Barrow":MAILTO:advantage@barrowrlfc.com
END:VEVENT
BEGIN:VEVENT
DTSTART;TZID=UTC:20261028T103000
DTEND;TZID=UTC:20261028T120000
DTSTAMP:20260419T093723
CREATED:20220720T141349Z
LAST-MODIFIED:20220720T141349Z
UID:11296-1793183400-1793188800@advantagebarrow.com
SUMMARY:Able Raiders Sports Session
DESCRIPTION:Funded by Furness Building Society and Mencap\, Multi sports sessions to ensure inclusion from all our participants and opportunity to develop skills and abilities in a range of activities\n						\n				\n				\n				\n					\n			\n						\n						Find out more about Able Raiders
URL:https://advantagebarrow.com/event/able-raiders-sports-session/2026-10-28/
LOCATION:Hoops Basketball Centre\, 48 Thorncliffe Road\, Barrow-In-Furness\, Cumbria\, LA14 5QA\, United Kingdom
CATEGORIES:Able Raiders
ATTACH;FMTTYPE=image/jpeg:https://advantagebarrow.com/wp-content/uploads/2022/07/WhatsApp-Image-2022-06-21-at-1.15.21-PM-19-2.jpeg
ORGANIZER;CN="Advantage%21%20Barrow":MAILTO:advantage@barrowrlfc.com
END:VEVENT
BEGIN:VEVENT
DTSTART;TZID=UTC:20261104T103000
DTEND;TZID=UTC:20261104T120000
DTSTAMP:20260419T093723
CREATED:20220720T141349Z
LAST-MODIFIED:20220720T141349Z
UID:11304-1793788200-1793793600@advantagebarrow.com
SUMMARY:Able Raiders Sports Session
DESCRIPTION:Funded by Furness Building Society and Mencap\, Multi sports sessions to ensure inclusion from all our participants and opportunity to develop skills and abilities in a range of activities\n						\n				\n				\n				\n					\n			\n						\n						Find out more about Able Raiders
URL:https://advantagebarrow.com/event/able-raiders-sports-session/2026-11-04/
LOCATION:Hoops Basketball Centre\, 48 Thorncliffe Road\, Barrow-In-Furness\, Cumbria\, LA14 5QA\, United Kingdom
CATEGORIES:Able Raiders
ATTACH;FMTTYPE=image/jpeg:https://advantagebarrow.com/wp-content/uploads/2022/07/WhatsApp-Image-2022-06-21-at-1.15.21-PM-19-2.jpeg
ORGANIZER;CN="Advantage%21%20Barrow":MAILTO:advantage@barrowrlfc.com
END:VEVENT
BEGIN:VEVENT
DTSTART;TZID=UTC:20261111T103000
DTEND;TZID=UTC:20261111T120000
DTSTAMP:20260419T093723
CREATED:20220720T141349Z
LAST-MODIFIED:20220720T141349Z
UID:11311-1794393000-1794398400@advantagebarrow.com
SUMMARY:Able Raiders Sports Session
DESCRIPTION:Funded by Furness Building Society and Mencap\, Multi sports sessions to ensure inclusion from all our participants and opportunity to develop skills and abilities in a range of activities\n						\n				\n				\n				\n					\n			\n						\n						Find out more about Able Raiders
URL:https://advantagebarrow.com/event/able-raiders-sports-session/2026-11-11/
LOCATION:Hoops Basketball Centre\, 48 Thorncliffe Road\, Barrow-In-Furness\, Cumbria\, LA14 5QA\, United Kingdom
CATEGORIES:Able Raiders
ATTACH;FMTTYPE=image/jpeg:https://advantagebarrow.com/wp-content/uploads/2022/07/WhatsApp-Image-2022-06-21-at-1.15.21-PM-19-2.jpeg
ORGANIZER;CN="Advantage%21%20Barrow":MAILTO:advantage@barrowrlfc.com
END:VEVENT
BEGIN:VEVENT
DTSTART;TZID=UTC:20261118T103000
DTEND;TZID=UTC:20261118T120000
DTSTAMP:20260419T093723
CREATED:20220720T141349Z
LAST-MODIFIED:20220720T141349Z
UID:11378-1794997800-1795003200@advantagebarrow.com
SUMMARY:Able Raiders Sports Session
DESCRIPTION:Funded by Furness Building Society and Mencap\, Multi sports sessions to ensure inclusion from all our participants and opportunity to develop skills and abilities in a range of activities\n						\n				\n				\n				\n					\n			\n						\n						Find out more about Able Raiders
URL:https://advantagebarrow.com/event/able-raiders-sports-session/2026-11-18/
LOCATION:Hoops Basketball Centre\, 48 Thorncliffe Road\, Barrow-In-Furness\, Cumbria\, LA14 5QA\, United Kingdom
CATEGORIES:Able Raiders
ATTACH;FMTTYPE=image/jpeg:https://advantagebarrow.com/wp-content/uploads/2022/07/WhatsApp-Image-2022-06-21-at-1.15.21-PM-19-2.jpeg
ORGANIZER;CN="Advantage%21%20Barrow":MAILTO:advantage@barrowrlfc.com
END:VEVENT
BEGIN:VEVENT
DTSTART;TZID=UTC:20261125T103000
DTEND;TZID=UTC:20261125T120000
DTSTAMP:20260419T093723
CREATED:20220720T141349Z
LAST-MODIFIED:20220720T141349Z
UID:11385-1795602600-1795608000@advantagebarrow.com
SUMMARY:Able Raiders Sports Session
DESCRIPTION:Funded by Furness Building Society and Mencap\, Multi sports sessions to ensure inclusion from all our participants and opportunity to develop skills and abilities in a range of activities\n						\n				\n				\n				\n					\n			\n						\n						Find out more about Able Raiders
URL:https://advantagebarrow.com/event/able-raiders-sports-session/2026-11-25/
LOCATION:Hoops Basketball Centre\, 48 Thorncliffe Road\, Barrow-In-Furness\, Cumbria\, LA14 5QA\, United Kingdom
CATEGORIES:Able Raiders
ATTACH;FMTTYPE=image/jpeg:https://advantagebarrow.com/wp-content/uploads/2022/07/WhatsApp-Image-2022-06-21-at-1.15.21-PM-19-2.jpeg
ORGANIZER;CN="Advantage%21%20Barrow":MAILTO:advantage@barrowrlfc.com
END:VEVENT
BEGIN:VEVENT
DTSTART;TZID=UTC:20261202T103000
DTEND;TZID=UTC:20261202T120000
DTSTAMP:20260419T093723
CREATED:20220720T141349Z
LAST-MODIFIED:20220720T141349Z
UID:11392-1796207400-1796212800@advantagebarrow.com
SUMMARY:Able Raiders Sports Session
DESCRIPTION:Funded by Furness Building Society and Mencap\, Multi sports sessions to ensure inclusion from all our participants and opportunity to develop skills and abilities in a range of activities\n						\n				\n				\n				\n					\n			\n						\n						Find out more about Able Raiders
URL:https://advantagebarrow.com/event/able-raiders-sports-session/2026-12-02/
LOCATION:Hoops Basketball Centre\, 48 Thorncliffe Road\, Barrow-In-Furness\, Cumbria\, LA14 5QA\, United Kingdom
CATEGORIES:Able Raiders
ATTACH;FMTTYPE=image/jpeg:https://advantagebarrow.com/wp-content/uploads/2022/07/WhatsApp-Image-2022-06-21-at-1.15.21-PM-19-2.jpeg
ORGANIZER;CN="Advantage%21%20Barrow":MAILTO:advantage@barrowrlfc.com
END:VEVENT
BEGIN:VEVENT
DTSTART;TZID=UTC:20261209T103000
DTEND;TZID=UTC:20261209T120000
DTSTAMP:20260419T093723
CREATED:20220720T141349Z
LAST-MODIFIED:20220720T141349Z
UID:11476-1796812200-1796817600@advantagebarrow.com
SUMMARY:Able Raiders Sports Session
DESCRIPTION:Funded by Furness Building Society and Mencap\, Multi sports sessions to ensure inclusion from all our participants and opportunity to develop skills and abilities in a range of activities\n						\n				\n				\n				\n					\n			\n						\n						Find out more about Able Raiders
URL:https://advantagebarrow.com/event/able-raiders-sports-session/2026-12-09/
LOCATION:Hoops Basketball Centre\, 48 Thorncliffe Road\, Barrow-In-Furness\, Cumbria\, LA14 5QA\, United Kingdom
CATEGORIES:Able Raiders
ATTACH;FMTTYPE=image/jpeg:https://advantagebarrow.com/wp-content/uploads/2022/07/WhatsApp-Image-2022-06-21-at-1.15.21-PM-19-2.jpeg
ORGANIZER;CN="Advantage%21%20Barrow":MAILTO:advantage@barrowrlfc.com
END:VEVENT
BEGIN:VEVENT
DTSTART;TZID=UTC:20261216T103000
DTEND;TZID=UTC:20261216T120000
DTSTAMP:20260419T093723
CREATED:20220720T141349Z
LAST-MODIFIED:20220720T141349Z
UID:11483-1797417000-1797422400@advantagebarrow.com
SUMMARY:Able Raiders Sports Session
DESCRIPTION:Funded by Furness Building Society and Mencap\, Multi sports sessions to ensure inclusion from all our participants and opportunity to develop skills and abilities in a range of activities\n						\n				\n				\n				\n					\n			\n						\n						Find out more about Able Raiders
URL:https://advantagebarrow.com/event/able-raiders-sports-session/2026-12-16/
LOCATION:Hoops Basketball Centre\, 48 Thorncliffe Road\, Barrow-In-Furness\, Cumbria\, LA14 5QA\, United Kingdom
CATEGORIES:Able Raiders
ATTACH;FMTTYPE=image/jpeg:https://advantagebarrow.com/wp-content/uploads/2022/07/WhatsApp-Image-2022-06-21-at-1.15.21-PM-19-2.jpeg
ORGANIZER;CN="Advantage%21%20Barrow":MAILTO:advantage@barrowrlfc.com
END:VEVENT
BEGIN:VEVENT
DTSTART;TZID=UTC:20261223T103000
DTEND;TZID=UTC:20261223T120000
DTSTAMP:20260419T093723
CREATED:20220720T141349Z
LAST-MODIFIED:20220720T141349Z
UID:11490-1798021800-1798027200@advantagebarrow.com
SUMMARY:Able Raiders Sports Session
DESCRIPTION:Funded by Furness Building Society and Mencap\, Multi sports sessions to ensure inclusion from all our participants and opportunity to develop skills and abilities in a range of activities\n						\n				\n				\n				\n					\n			\n						\n						Find out more about Able Raiders
URL:https://advantagebarrow.com/event/able-raiders-sports-session/2026-12-23/
LOCATION:Hoops Basketball Centre\, 48 Thorncliffe Road\, Barrow-In-Furness\, Cumbria\, LA14 5QA\, United Kingdom
CATEGORIES:Able Raiders
ATTACH;FMTTYPE=image/jpeg:https://advantagebarrow.com/wp-content/uploads/2022/07/WhatsApp-Image-2022-06-21-at-1.15.21-PM-19-2.jpeg
ORGANIZER;CN="Advantage%21%20Barrow":MAILTO:advantage@barrowrlfc.com
END:VEVENT
BEGIN:VEVENT
DTSTART;TZID=UTC:20261230T103000
DTEND;TZID=UTC:20261230T120000
DTSTAMP:20260419T093723
CREATED:20220720T141349Z
LAST-MODIFIED:20220720T141349Z
UID:11497-1798626600-1798632000@advantagebarrow.com
SUMMARY:Able Raiders Sports Session
DESCRIPTION:Funded by Furness Building Society and Mencap\, Multi sports sessions to ensure inclusion from all our participants and opportunity to develop skills and abilities in a range of activities\n						\n				\n				\n				\n					\n			\n						\n						Find out more about Able Raiders
URL:https://advantagebarrow.com/event/able-raiders-sports-session/2026-12-30/
LOCATION:Hoops Basketball Centre\, 48 Thorncliffe Road\, Barrow-In-Furness\, Cumbria\, LA14 5QA\, United Kingdom
CATEGORIES:Able Raiders
ATTACH;FMTTYPE=image/jpeg:https://advantagebarrow.com/wp-content/uploads/2022/07/WhatsApp-Image-2022-06-21-at-1.15.21-PM-19-2.jpeg
ORGANIZER;CN="Advantage%21%20Barrow":MAILTO:advantage@barrowrlfc.com
END:VEVENT
BEGIN:VEVENT
DTSTART;TZID=UTC:20270106T103000
DTEND;TZID=UTC:20270106T120000
DTSTAMP:20260419T093723
CREATED:20220720T141349Z
LAST-MODIFIED:20220720T141349Z
UID:11504-1799231400-1799236800@advantagebarrow.com
SUMMARY:Able Raiders Sports Session
DESCRIPTION:Funded by Furness Building Society and Mencap\, Multi sports sessions to ensure inclusion from all our participants and opportunity to develop skills and abilities in a range of activities\n						\n				\n				\n				\n					\n			\n						\n						Find out more about Able Raiders
URL:https://advantagebarrow.com/event/able-raiders-sports-session/2027-01-06/
LOCATION:Hoops Basketball Centre\, 48 Thorncliffe Road\, Barrow-In-Furness\, Cumbria\, LA14 5QA\, United Kingdom
CATEGORIES:Able Raiders
ATTACH;FMTTYPE=image/jpeg:https://advantagebarrow.com/wp-content/uploads/2022/07/WhatsApp-Image-2022-06-21-at-1.15.21-PM-19-2.jpeg
ORGANIZER;CN="Advantage%21%20Barrow":MAILTO:advantage@barrowrlfc.com
END:VEVENT
BEGIN:VEVENT
DTSTART;TZID=UTC:20270113T103000
DTEND;TZID=UTC:20270113T120000
DTSTAMP:20260419T093723
CREATED:20220720T141349Z
LAST-MODIFIED:20220720T141349Z
UID:11511-1799836200-1799841600@advantagebarrow.com
SUMMARY:Able Raiders Sports Session
DESCRIPTION:Funded by Furness Building Society and Mencap\, Multi sports sessions to ensure inclusion from all our participants and opportunity to develop skills and abilities in a range of activities\n						\n				\n				\n				\n					\n			\n						\n						Find out more about Able Raiders
URL:https://advantagebarrow.com/event/able-raiders-sports-session/2027-01-13/
LOCATION:Hoops Basketball Centre\, 48 Thorncliffe Road\, Barrow-In-Furness\, Cumbria\, LA14 5QA\, United Kingdom
CATEGORIES:Able Raiders
ATTACH;FMTTYPE=image/jpeg:https://advantagebarrow.com/wp-content/uploads/2022/07/WhatsApp-Image-2022-06-21-at-1.15.21-PM-19-2.jpeg
ORGANIZER;CN="Advantage%21%20Barrow":MAILTO:advantage@barrowrlfc.com
END:VEVENT
BEGIN:VEVENT
DTSTART;TZID=UTC:20270120T103000
DTEND;TZID=UTC:20270120T120000
DTSTAMP:20260419T093723
CREATED:20220720T141349Z
LAST-MODIFIED:20220720T141349Z
UID:11518-1800441000-1800446400@advantagebarrow.com
SUMMARY:Able Raiders Sports Session
DESCRIPTION:Funded by Furness Building Society and Mencap\, Multi sports sessions to ensure inclusion from all our participants and opportunity to develop skills and abilities in a range of activities\n						\n				\n				\n				\n					\n			\n						\n						Find out more about Able Raiders
URL:https://advantagebarrow.com/event/able-raiders-sports-session/2027-01-20/
LOCATION:Hoops Basketball Centre\, 48 Thorncliffe Road\, Barrow-In-Furness\, Cumbria\, LA14 5QA\, United Kingdom
CATEGORIES:Able Raiders
ATTACH;FMTTYPE=image/jpeg:https://advantagebarrow.com/wp-content/uploads/2022/07/WhatsApp-Image-2022-06-21-at-1.15.21-PM-19-2.jpeg
ORGANIZER;CN="Advantage%21%20Barrow":MAILTO:advantage@barrowrlfc.com
END:VEVENT
BEGIN:VEVENT
DTSTART;TZID=UTC:20270127T103000
DTEND;TZID=UTC:20270127T120000
DTSTAMP:20260419T093723
CREATED:20220720T141349Z
LAST-MODIFIED:20220720T141349Z
UID:11526-1801045800-1801051200@advantagebarrow.com
SUMMARY:Able Raiders Sports Session
DESCRIPTION:Funded by Furness Building Society and Mencap\, Multi sports sessions to ensure inclusion from all our participants and opportunity to develop skills and abilities in a range of activities\n						\n				\n				\n				\n					\n			\n						\n						Find out more about Able Raiders
URL:https://advantagebarrow.com/event/able-raiders-sports-session/2027-01-27/
LOCATION:Hoops Basketball Centre\, 48 Thorncliffe Road\, Barrow-In-Furness\, Cumbria\, LA14 5QA\, United Kingdom
CATEGORIES:Able Raiders
ATTACH;FMTTYPE=image/jpeg:https://advantagebarrow.com/wp-content/uploads/2022/07/WhatsApp-Image-2022-06-21-at-1.15.21-PM-19-2.jpeg
ORGANIZER;CN="Advantage%21%20Barrow":MAILTO:advantage@barrowrlfc.com
END:VEVENT
BEGIN:VEVENT
DTSTART;TZID=UTC:20270203T103000
DTEND;TZID=UTC:20270203T120000
DTSTAMP:20260419T093723
CREATED:20220720T141349Z
LAST-MODIFIED:20220720T141349Z
UID:11551-1801650600-1801656000@advantagebarrow.com
SUMMARY:Able Raiders Sports Session
DESCRIPTION:Funded by Furness Building Society and Mencap\, Multi sports sessions to ensure inclusion from all our participants and opportunity to develop skills and abilities in a range of activities\n						\n				\n				\n				\n					\n			\n						\n						Find out more about Able Raiders
URL:https://advantagebarrow.com/event/able-raiders-sports-session/2027-02-03/
LOCATION:Hoops Basketball Centre\, 48 Thorncliffe Road\, Barrow-In-Furness\, Cumbria\, LA14 5QA\, United Kingdom
CATEGORIES:Able Raiders
ATTACH;FMTTYPE=image/jpeg:https://advantagebarrow.com/wp-content/uploads/2022/07/WhatsApp-Image-2022-06-21-at-1.15.21-PM-19-2.jpeg
ORGANIZER;CN="Advantage%21%20Barrow":MAILTO:advantage@barrowrlfc.com
END:VEVENT
END:VCALENDAR